BEGIN:VCALENDAR
VERSION:2.0
PRODID:-//Barnbow Social Club - ECPv6.15.20//NONSGML v1.0//EN
CALSCALE:GREGORIAN
METHOD:PUBLISH
X-ORIGINAL-URL:https://barnbowsocialclub.com
X-WR-CALDESC:Events for Barnbow Social Club
REFRESH-INTERVAL;VALUE=DURATION:PT1H
X-Robots-Tag:noindex
X-PUBLISHED-TTL:PT1H
BEGIN:VTIMEZONE
TZID:Europe/London
BEGIN:DAYLIGHT
TZOFFSETFROM:+0000
TZOFFSETTO:+0100
TZNAME:BST
DTSTART:20230326T010000
END:DAYLIGHT
BEGIN:STANDARD
TZOFFSETFROM:+0100
TZOFFSETTO:+0000
TZNAME:GMT
DTSTART:20231029T010000
END:STANDARD
BEGIN:DAYLIGHT
TZOFFSETFROM:+0000
TZOFFSETTO:+0100
TZNAME:BST
DTSTART:20240331T010000
END:DAYLIGHT
BEGIN:STANDARD
TZOFFSETFROM:+0100
TZOFFSETTO:+0000
TZNAME:GMT
DTSTART:20241027T010000
END:STANDARD
BEGIN:DAYLIGHT
TZOFFSETFROM:+0000
TZOFFSETTO:+0100
TZNAME:BST
DTSTART:20250330T010000
END:DAYLIGHT
BEGIN:STANDARD
TZOFFSETFROM:+0100
TZOFFSETTO:+0000
TZNAME:GMT
DTSTART:20251026T010000
END:STANDARD
BEGIN:DAYLIGHT
TZOFFSETFROM:+0000
TZOFFSETTO:+0100
TZNAME:BST
DTSTART:20260329T010000
END:DAYLIGHT
BEGIN:STANDARD
TZOFFSETFROM:+0100
TZOFFSETTO:+0000
TZNAME:GMT
DTSTART:20261025T010000
END:STANDARD
END:VTIMEZONE
BEGIN:VEVENT
DTSTART;TZID=Europe/London:20250725T190000
DTEND;TZID=Europe/London:20250725T230000
DTSTAMP:20260425T221756
CREATED:20250417T134821Z
LAST-MODIFIED:20250622T090926Z
UID:1028-1753470000-1753484400@barnbowsocialclub.com
SUMMARY:An evening with ELVIS!
DESCRIPTION:🎵 THE KING LIVES ON! 🎵\nJoin us for an unforgettable night with Dean Craig’s spectacular Elvis tribute show! \n📅 Friday\, July 25th 🕢 Doors: 7:30 PM | Show: 8:00 PM 💰 Tickets £10 \nDean captures the magic\, charisma\, and unforgettable sound of Elvis Presley that will have you dancing in your blue suede shoes! \nLimited seats available – book now to avoid disappointment! BUY ON SKIDDLE
URL:https://barnbowsocialclub.com/event/an-evening-with-elvis/
LOCATION:Barnbow Social Club\, Manston Lane\, Leeds\, LS15 8ST
CATEGORIES:Adults only,Top room
ATTACH;FMTTYPE=image/png:https://barnbowsocialclub.com/wp-content/uploads/2025/04/Elvis-FB-1.png
ORGANIZER;CN="Barnbow Social Club":MAILTO:enquiries@barnbowsocialclub.com
END:VEVENT
BEGIN:VEVENT
DTSTART;TZID=Europe/London:20250529T190000
DTEND;TZID=Europe/London:20250529T233000
DTSTAMP:20260425T221756
CREATED:20250324T124654Z
LAST-MODIFIED:20250324T124654Z
UID:1015-1748545200-1748561400@barnbowsocialclub.com
SUMMARY:LADIES NIGHT!
DESCRIPTION:✨ A NIGHT OF ENTERTAINMENT ✨\nAn Evening of Sophistication & Spectacle \n\nExclusive Variety Show featuring Professional Dancers\nAward-Winning Drag Performance\nDisco so you can dance the night away!\n\nBarnbow Social Club presents an evening of sophistication and spectacle. Join us Thursday 29 May 2025 for an exclusive variety show featuring professional performers\, award-winning drag artists\, and DJ. Dress to impress and prepare for an unforgettable night. \nOur entertainment spectacular brings together everything you need: \n\nPerformances that will leave you speechless (except for the whooping and cheering)\nMusic that will transport you away from everyday worries\nAn atmosphere where everyone is welcome and everyone belongs\n\nDoors 7:00  |  Disco 7:30   |  Show 8:30 \nGet your tickets now https://www.skiddle.com/e/40866635.
URL:https://barnbowsocialclub.com/event/ladies-night/
LOCATION:Barnbow Social Club\, Manston Lane\, Leeds\, LS15 8ST
CATEGORIES:Adults only,Top room
ATTACH;FMTTYPE=image/jpeg:https://barnbowsocialclub.com/wp-content/uploads/2025/03/ladies-night.jpeg
ORGANIZER;CN="Barnbow Social Club":MAILTO:enquiries@barnbowsocialclub.com
END:VEVENT
BEGIN:VEVENT
DTSTART;TZID=Europe/London:20250516T190000
DTEND;TZID=Europe/London:20250516T230000
DTSTAMP:20260425T221756
CREATED:20250504T225707Z
LAST-MODIFIED:20250506T161830Z
UID:1104-1747422000-1747436400@barnbowsocialclub.com
SUMMARY:Live music with Muldoon & Dan Kelly
DESCRIPTION:FRIDAY NIGHT LIVE: MULDOON + DAN KELLY \nBritpop lovers rejoice! Local heroes MULDOON take over our stage this Friday\, delivering all your 90s anthems with their signature raw energy and crowd-pleasing style. \nAcoustic troubadour DAN KELLY kicks off the night with stripped-back classics and soulful originals. \nDoors 7PM | Band 8PM | FREE ENTRY | Non-members welcome | 20p off Coors | Vodka & mixer £3 \nBring your mates and get down early to grab your seats. \n 
URL:https://barnbowsocialclub.com/event/live-music-with-muldoon-dan-kelly/
LOCATION:Barnbow Social Club\, Manston Lane\, Leeds\, LS15 8ST
CATEGORIES:Adults only,Top room
ATTACH;FMTTYPE=image/jpeg:https://barnbowsocialclub.com/wp-content/uploads/2025/05/d952b3ff-67a8-4ea5-b63b-7907282da576.jpg
ORGANIZER;CN="Barnbow Social Club":MAILTO:enquiries@barnbowsocialclub.com
END:VEVENT
BEGIN:VEVENT
DTSTART;TZID=Europe/London:20250409T190000
DTEND;TZID=Europe/London:20250409T230000
DTSTAMP:20260425T221756
CREATED:20250321T131452Z
LAST-MODIFIED:20250321T133712Z
UID:991-1744225200-1744239600@barnbowsocialclub.com
SUMMARY:Live Music with Muldoon
DESCRIPTION:Get ready for an unforgettable night of music with local 4-piece band Muldoon! This high-energy cover band delivers pitch-perfect renditions of Britpop and punk – think Oasis\, The Clash\, Stone Roses\, Sex Pistols\, The Beatles and more. From legendary rock anthems to classic chart-toppers\, Muldoon create the perfect atmosphere for any occasion.
URL:https://barnbowsocialclub.com/event/live-music-with-muldoon/
LOCATION:Barnbow Social Club\, Manston Lane\, Leeds\, LS15 8ST
CATEGORIES:Children welcome,Top room
ATTACH;FMTTYPE=image/png:https://barnbowsocialclub.com/wp-content/uploads/2025/03/muldoon.png
ORGANIZER;CN="Barnbow Social Club":MAILTO:enquiries@barnbowsocialclub.com
END:VEVENT
BEGIN:VEVENT
DTSTART;TZID=Europe/London:20250215T190000
DTEND;TZID=Europe/London:20250215T233000
DTSTAMP:20260425T221756
CREATED:20240906T081518Z
LAST-MODIFIED:20240906T081539Z
UID:487-1739646000-1739662200@barnbowsocialclub.com
SUMMARY:Live music from The Union
DESCRIPTION:  \n  \n  \n  \n  \n  \nJoin us for a brilliant night of live music from The Union. Playing a mix of 90s indie and mod\, it’s going to be a great night! Starting at 7pm
URL:https://barnbowsocialclub.com/event/live-music-from-the-union/
LOCATION:Barnbow Social Club\, Manston Lane\, Leeds\, LS15 8ST
CATEGORIES:Top room
ORGANIZER;CN="Barnbow Social Club":MAILTO:enquiries@barnbowsocialclub.com
END:VEVENT
BEGIN:VEVENT
DTSTART;TZID=Europe/London:20240607T190000
DTEND;TZID=Europe/London:20240607T230000
DTSTAMP:20260425T221756
CREATED:20240122T204244Z
LAST-MODIFIED:20240123T002239Z
UID:288-1717786800-1717801200@barnbowsocialclub.com
SUMMARY:Barnbow's Barmy Bingo!
DESCRIPTION:Barnbow’s Barmy Bingo is back!\nJoin us for Barmy Bingo! It’s bingo with a twist – great music and lots of laughs! It’s not like regular bingo\, it’s absolutely barmy! \nStrictly over 18s only\nTickets are £20\, which includes all your bingo games. \nWe know you’re going to have a great night\, get your tickets now as seating is limited.
URL:https://barnbowsocialclub.com/event/barnbows-barmy-bingo-2/
LOCATION:Barnbow Social Club\, Manston Lane\, Leeds\, LS15 8ST
CATEGORIES:Adults only,Top room
END:VEVENT
BEGIN:VEVENT
DTSTART;TZID=Europe/London:20240406T190000
DTEND;TZID=Europe/London:20240406T230000
DTSTAMP:20260425T221756
CREATED:20240121T225419Z
LAST-MODIFIED:20240123T002310Z
UID:255-1712430000-1712444400@barnbowsocialclub.com
SUMMARY:St. Sordid Secret - International Drag Queen!
DESCRIPTION:The Sequin Stinger Tour 2024\nWe’re so excited for this! The award-winning St. Sordid Secret is back at Barnbow Social Club! \nThe internationally renowned drag queen and cabaret artist promises another fantastic night with a great show and lots of laughs! \nTickets are just £10 and are bound to sell fast\, so get yours asap! The doors open at 7pm and the fun starts at 8pm – see you there! \n 
URL:https://barnbowsocialclub.com/event/st-sordid-secret-international-drag-queen/
CATEGORIES:Adults only,Top room
ATTACH;FMTTYPE=image/jpeg:https://barnbowsocialclub.com/wp-content/uploads/2024/01/0d7af4a5-e9cd-4e91-a08c-2e8d6b43129a.jpg
END:VEVENT
BEGIN:VEVENT
DTSTART;TZID=Europe/London:20240331T140000
DTEND;TZID=Europe/London:20240331T170000
DTSTAMP:20260425T221756
CREATED:20240121T225233Z
LAST-MODIFIED:20240123T002319Z
UID:252-1711893600-1711904400@barnbowsocialclub.com
SUMMARY:Kids Easter Party
DESCRIPTION:Kids Easter Party\nJoin us for an afternoon of fun for the kids\, this Easter! Tickets are just £3 per child. \nWith fun games and a disco\, this will be a great afternoon of fun! \nTickets are limited so do make sure you get your tickets early to avoid disappointment.
URL:https://barnbowsocialclub.com/event/kids-easter-party/
CATEGORIES:Children welcome,Top room
ATTACH;FMTTYPE=image/png:https://barnbowsocialclub.com/wp-content/uploads/2024/01/Green-Blue-Watercolor-cute-Easter-Party-Poster.png
END:VEVENT
BEGIN:VEVENT
DTSTART;TZID=Europe/London:20240314T183000
DTEND;TZID=Europe/London:20240314T223000
DTSTAMP:20260425T221756
CREATED:20240121T223111Z
LAST-MODIFIED:20240123T002334Z
UID:248-1710441000-1710455400@barnbowsocialclub.com
SUMMARY:Clairvoyant evening with Wendy
DESCRIPTION:An evening of mediumship and clairvoyance with Wendy\nGet ready for a spiritual evening of mediumship and clairvoyance\, with the wonderful Wendy Shelton. \nTickets are £10 in advance or £14 on the door. \nWendy is also fundraising for the Yorkshire Air Ambulance. \nCall 07754 958934 to get your tickets or pick some up from the bar.
URL:https://barnbowsocialclub.com/event/clairvoyant-evening-with-wendy/
CATEGORIES:Adults only,Top room
ATTACH;FMTTYPE=image/jpeg:https://barnbowsocialclub.com/wp-content/uploads/2024/01/714cb06b-72ea-47d4-ab1c-7c532c7114b8.jpg
END:VEVENT
BEGIN:VEVENT
DTSTART;TZID=Europe/London:20240202T183000
DTEND;TZID=Europe/London:20240202T230000
DTSTAMP:20260425T221756
CREATED:20240121T222659Z
LAST-MODIFIED:20240123T002350Z
UID:246-1706898600-1706914800@barnbowsocialclub.com
SUMMARY:Barnbow's Barmy Bingo!
DESCRIPTION:Barnbow’s Barmy Bingo!\nJoin us for Barmy Bingo! It’s bingo with a twist – great music and lots of laughs! It’s not like regular bingo\, it’s absolutely barmy! \nStrictly over 18s only \nTickets are £20\, which includes all your bingo games \nWe know you’re going to have a great night\, get your tickets now as seating is limited.
URL:https://barnbowsocialclub.com/event/barnbows-barmy-bingo/
LOCATION:Barnbow Social Club\, Manston Lane\, Leeds\, LS15 8ST
CATEGORIES:Adults only,Top room
ATTACH;FMTTYPE=image/jpeg:https://barnbowsocialclub.com/wp-content/uploads/2024/01/26f38a5d-121b-41b1-ab91-6a73a196226f.jpg
END:VEVENT
END:VCALENDAR